BEGIN:VCALENDAR
VERSION:2.0
PRODID:-//ChamberMaster//Event Calendar 2.0//EN
METHOD:PUBLISH
X-PUBLISHED-TTL:P3D
REFRESH-INTERVAL:P3D
CALSCALE:GREGORIAN
BEGIN:VEVENT
DTSTART:20130423T123000Z
DTEND:20130423T143000Z
X-MICROSOFT-CDO-ALLDAYEVENT:FALSE
SUMMARY:WIB Special Event Committee
DESCRIPTION:Women In Busines - Special Event Planning Committee
X-ALT-DESC;FMTTYPE=text/html:Women In Busines - Special Event Planning Committee&nbsp\;&nbsp\;&nbsp\; &nbsp\;&nbsp\;&nbsp\; 
LOCATION:GMCC Chamber Office
UID:e.1458.1572
SEQUENCE:3
DTSTAMP:20260422T090431Z
URL:https://business.monmouthregionalchamber.com/events/details/wib-special-event-committee-04-23-2013-1572
END:VEVENT

END:VCALENDAR
