BEGIN:VCALENDAR
VERSION:2.0
PRODID:-//ChamberMaster//Event Calendar 2.0//EN
METHOD:PUBLISH
X-PUBLISHED-TTL:P3D
REFRESH-INTERVAL:P3D
CALSCALE:GREGORIAN
BEGIN:VEVENT
DTSTART:20130406T140000Z
DTEND:20130406T160000Z
X-MICROSOFT-CDO-ALLDAYEVENT:FALSE
SUMMARY:TLE Freehold Family Fun Day/Open House
DESCRIPTION:Come to The Learning Experience in Freehold for our Family Fun Day.\n\n	Dennis the Magician performs at 11am. Face Painting and refreshments\n\n	too!\n\n	It is a great day to tour\, as we are offering $100 off through the rest of 2013 if you enroll on this Day and\n\n	start by April 8th.\n\n	TLE Freehold is an Academy of Early Education for children from 6 weeks to 6 years old. Our\n\n	curriculum differentiates us from the rest: Leap Books\, Spanish\, Phonics\, Sign Language and\n\n	our new Philanthropy curriculum.\n\n	Stop by for a tour soon!\n\n	3538 Route 9 South\n\n	Freehold\n\n	(same parking lot as TGIF)\n\n	732-866-8700
X-ALT-DESC;FMTTYPE=text/html:<p>\n	Come to The Learning Experience in Freehold for our Family Fun Day.<br />\n	Dennis the Magician performs at 11am. Face Painting and refreshments<br />\n	too!<br />\n	It is a great day to tour\, as we are offering $100 off through the rest of 2013 if you enroll on this Day and<br />\n	start by April 8th.<br />\n	TLE Freehold is an Academy of Early Education for children from 6 weeks to 6 years old. Our<br />\n	curriculum differentiates us from the rest: Leap Books\, Spanish\, Phonics\, Sign Language and<br />\n	our new Philanthropy curriculum.<br />\n	Stop by for a tour soon!<br />\n	3538 Route 9 South<br />\n	Freehold<br />\n	(same parking lot as TGIF)<br />\n	732-866-8700</p>\n
LOCATION:TLE FREEHOLD 3538 Route 9 South
UID:e.1458.1360
SEQUENCE:3
DTSTAMP:20260422T090819Z
URL:https://business.monmouthregionalchamber.com/events/details/tle-freehold-family-fun-day-open-house-04-06-2013-1360
END:VEVENT

END:VCALENDAR
