BEGIN:VCALENDAR
VERSION:2.0
PRODID:-//ChamberMaster//Event Calendar 2.0//EN
METHOD:PUBLISH
X-PUBLISHED-TTL:P3D
REFRESH-INTERVAL:P3D
CALSCALE:GREGORIAN
BEGIN:VEVENT
DTSTART:20190430T220000Z
DTEND:20190501T010000Z
X-MICROSOFT-CDO-ALLDAYEVENT:FALSE
SUMMARY:STUMPY'S HATCHET HOUSE BUSINESS AFTER HOURS
DESCRIPTION:
X-ALT-DESC;FMTTYPE=text/html:
LOCATION:Stumpy's Hatchet House 22 Meridian Road Unit 5 Eatontown\, NJ 07724
UID:e.1458.7163
SEQUENCE:3
DTSTAMP:20260423T031610Z
URL:https://business.monmouthregionalchamber.com/events/details/stumpy-s-hatchet-house-business-after-hours-7163
END:VEVENT

END:VCALENDAR
