BEGIN:VCALENDAR
VERSION:2.0
PRODID:-//ChamberMaster//Event Calendar 2.0//EN
METHOD:PUBLISH
X-PUBLISHED-TTL:P3D
REFRESH-INTERVAL:P3D
CALSCALE:GREGORIAN
BEGIN:VEVENT
DTSTART:20220617T120000Z
DTEND:20220617T131500Z
X-MICROSOFT-CDO-ALLDAYEVENT:FALSE
SUMMARY:SPECIAL PERK ZOOM
DESCRIPTION:JOIN US FOR A SPECIAL\n\n    PERK ZOOM NETWORKING EVENT!\n\n\n\n HOPE YOU CAN JOIN US!\n\n\n\nYOU WILL RECEIVE THE ZOOM MEETING LINK WHEN YOU RECEIVE YOUR REGISTRATION CONFIRMATION\n\nTHANK YOU!\n\nhttps://bit.ly/MRCC2022PERKZOOM0617
X-ALT-DESC;FMTTYPE=text/html:<div style="text-align: center\;"><span style="color:#0000CD\;"><span background-color:="" color:="" font-size:="" open="" outline:="" style="box-sizing: border-box\; font-family: " text-align:=""><span style="box-sizing: border-box\; outline: 0px\; font-size: 18px\;"><span style="box-sizing: border-box\; font-weight: bolder\; outline: 0px\;">JOIN US FOR A SPECIAL<br style="box-sizing: border-box\;" />\n&nbsp\; &nbsp\; PERK ZOOM NETWORKING EVENT!</span></span></span><br background-color:="" font-size:="" open="" style="box-sizing: border-box\; color: rgb(51\, 51\, 51)\; font-family: " text-align:="" />\n<br background-color:="" font-size:="" open="" style="box-sizing: border-box\; color: rgb(51\, 51\, 51)\; font-family: " text-align:="" />\n<span background-color:="" font-size:="" open="" style="box-sizing: border-box\;" text-align:="">&nbsp\;</span><span background-color:="" color:="" font-size:="" open="" style="box-sizing: border-box\; outline: 0px\; font-family: " text-align:=""><span style="box-sizing: border-box\; outline: 0px\; font-size: 18px\;"><span style="box-sizing: border-box\; outline: 0px\; font-weight: bolder\;">HOPE YOU CAN JOIN US!</span></span></span></span><br background-color:="" font-size:="" open="" style="box-sizing: border-box\; color: rgb(51\, 51\, 51)\; font-family: " text-align:="" />\n<br background-color:="" font-size:="" open="" style="box-sizing: border-box\; color: rgb(51\, 51\, 51)\; font-family: " text-align:="" />\n<span style="color:#FF0000\;"><span background-color:="" color:="" font-size:="" open="" style="box-sizing: border-box\; font-family: " text-align:=""><span style="box-sizing: border-box\; font-size: 18px\;"><span style="box-sizing: border-box\; font-weight: bolder\;">YOU WILL RECEIVE THE ZOOM MEETING LINK WHEN YOU RECEIVE YOUR REGISTRATION CONFIRMATION</span></span></span></span><br style="box-sizing: border-box\;" />\n<span style="color:#0000CD\;"><span background-color:="" color:="" font-size:="" open="" style="box-sizing: border-box\; font-family: " text-align:=""><span style="box-sizing: border-box\; font-size: 18px\;"><span style="box-sizing: border-box\; font-weight: bolder\;">THANK YOU!</span></span></span><br />\n<span style="font-size:14px\;"><strong>https://bit.ly/MRCC2022PERKZOOM0617</strong></span></span><br />\n&nbsp\;</div>\n
LOCATION:MEETING HAS BEEN MOVED TO ZOOM BECAUSE NJCU IS CLOSED ON 6/17 New Jersey City University @ Fort Monmouth
UID:e.1458.8737
SEQUENCE:3
DTSTAMP:20260422T004721Z
URL:https://business.monmouthregionalchamber.com/events/details/special-perk-zoom-06-17-2022-8737
END:VEVENT

END:VCALENDAR
