BEGIN:VCALENDAR
VERSION:2.0
PRODID:-//ChamberMaster//Event Calendar 2.0//EN
METHOD:PUBLISH
X-PUBLISHED-TTL:P3D
REFRESH-INTERVAL:P3D
CALSCALE:GREGORIAN
BEGIN:VEVENT
DTSTART:20151104T233000Z
DTEND:20151105T013000Z
X-MICROSOFT-CDO-ALLDAYEVENT:FALSE
SUMMARY:Social Media and Digital Marketing for Small and Local Businesses
DESCRIPTION:Social media and digital marketing are challenges for small business owners to understand and leverage. We will discuss the major initiatives you should be thinking about so that you don't get lost or forgotten online and\, most importantly\, how to use online channels to increase customer engagement/satisfaction and revenue.
X-ALT-DESC;FMTTYPE=text/html:Social media and digital marketing are challenges for small business owners to understand and leverage. We will discuss the major initiatives you should be thinking about so that you don&#39\;t get lost or forgotten online and\, most importantly\, how to use online channels to increase customer engagement/satisfaction and revenue.
LOCATION:Monmouth County Library Eastern Branch
UID:e.1458.2766
SEQUENCE:3
DTSTAMP:20260422T091037Z
URL:https://business.monmouthregionalchamber.com/events/details/social-media-and-digital-marketing-for-small-and-local-businesses-11-04-2015-2766
END:VEVENT

END:VCALENDAR
