BEGIN:VCALENDAR
VERSION:2.0
PRODID:-//ChamberMaster//Event Calendar 2.0//EN
METHOD:PUBLISH
X-PUBLISHED-TTL:P3D
REFRESH-INTERVAL:P3D
CALSCALE:GREGORIAN
BEGIN:VEVENT
DTSTART:20240313T223000Z
DTEND:20240314T003000Z
X-MICROSOFT-CDO-ALLDAYEVENT:FALSE
SUMMARY:Paint and Sip with ArtWorx Events at Fratello's
DESCRIPTION:Join ArtWorx Events at new partner location\, Fratello's\, in Sea Girt! Guests will be painting a set of two St. Patty's Day wine glasses. All supplies\, instruction\, and aprons will be provided. There will be $10 appetizers and Happy Hour Drink specials for all guests!
X-ALT-DESC;FMTTYPE=text/html:Join ArtWorx Events at new partner location\, Fratello&#39\;s\, in Sea Girt! Guests will be painting a set of two St. Patty&#39\;s Day wine glasses. All supplies\, instruction\, and aprons will be provided. There will be $10 appetizers and Happy Hour Drink specials for all guests!
LOCATION:Fratello's 810 The plaza\, Sea Girt\, NJ
UID:e.1458.9384
SEQUENCE:3
DTSTAMP:20260424T070749Z
URL:https://business.monmouthregionalchamber.com/events/details/paint-and-sip-with-artworx-events-at-fratello-s-9384
END:VEVENT

END:VCALENDAR
