BEGIN:VCALENDAR
VERSION:2.0
PRODID:-//ChamberMaster//Event Calendar 2.0//EN
METHOD:PUBLISH
X-PUBLISHED-TTL:P3D
REFRESH-INTERVAL:P3D
CALSCALE:GREGORIAN
BEGIN:VEVENT
DTSTART;VALUE=DATE:20130316
DTEND;VALUE=DATE:20130317
TRANSP:TRANSPARENT
X-MICROSOFT-CDO-ALLDAYEVENT:TRUE
SUMMARY:OPEN HOUSE@Sam's Club
DESCRIPTION:HOTEL/ MOTEL OPEN HOUSE APPRECIATION EVENT @ 11-2PM \n\n	SATURDAY MARCH 16TH\, 2013.\n\n	\n\n	ALL ARE WELCOME. REFRESHMENTS WILL BE SERVED!!!\n\n	\n\n	\n\n	JOIN OR RENEW AN EXISTING MEMBERSHIP AND YOU WILL RECEIVE A GIFT CARD\, UP TO $25!!!!\n\n	\n\n	\n\n	SAVINGS MADE SIMPLE!!\n\n	\n\n	\n\n	BRING THE CHAMBER CERTIFICATE LOCATED ON THE CHAMBER WEBSITE OR MENTION THIS OFFER TO A REPRESENTATIVE WHEN YOU COME.\n\n	\n\n	SEE YOU THERE!
X-ALT-DESC;FMTTYPE=text/html:<h1>\n	<span style="color:#000080\;"><span style="font-size: 18px\;"><big><small>HOTEL/ MOTEL OPEN HOUSE APPRECIATION EVENT @ 11-2PM&nbsp\;<br />\n	SATURDAY MARCH 16TH\, 2013.</small></big></span></span></h1>\n<p>\n	<br />\n	<span style="color:#000080\;"><span style="font-size: 16px\;"><big><small>ALL ARE WELCOME. REFRESHMENTS WILL BE SERVED!!!</small></big><br />\n	<br />\n	<br />\n	<small><big>JOIN OR RENEW AN EXISTING&nbsp\;MEMBERSHIP&nbsp\;AND YOU WILL RECEIVE A GIFT CARD\, UP TO $25!!!!</big><br />\n	<br />\n	<br />\n	<big>SAVINGS MADE SIMPLE!!</big></small><br />\n	<br />\n	<br />\n	<big><small>BRING THE CHAMBER CERTIFICATE LOCATED ON THE CHAMBER WEBSITE OR MENTION THIS OFFER TO A REPRESENTATIVE WHEN YOU COME.</small><br />\n	<br />\n	<small>SEE YOU THERE!</small></big></span></span></p>\n
LOCATION:320 WEST MAIN STREET FREEHOLD NJ 07728
UID:e.1458.1361
SEQUENCE:3
DTSTAMP:20260422T102527Z
URL:https://business.monmouthregionalchamber.com/events/details/open-house-sam-s-club-03-16-2013-1361
END:VEVENT

END:VCALENDAR
