BEGIN:VCALENDAR
VERSION:2.0
PRODID:-//ChamberMaster//Event Calendar 2.0//EN
METHOD:PUBLISH
X-PUBLISHED-TTL:P3D
REFRESH-INTERVAL:P3D
CALSCALE:GREGORIAN
BEGIN:VEVENT
DTSTART:20190419T120000Z
DTEND:20190419T131500Z
X-MICROSOFT-CDO-ALLDAYEVENT:FALSE
SUMMARY:NO PERK TODAY ~ GOOD FRIDAY
DESCRIPTION:NO PERKOLATOR BREAKFAST TODAY\n\n~ HAPPY EASTER!! ~  HAPPY PASSOVER!! ~\n\n\nCome out to meet & mingle with a dynamic group of individuals and businesses who represent professionalism in their respective fields. Enjoy breakfast\, hear a relevant guest speaker\, give your 30-second elevator pitch\, network and develop meaningful business relationships at our weekly Perkolator Breakfast at the All Seasons Diner in Eatontown! Hope to see you there!
X-ALT-DESC;FMTTYPE=text/html:<div style="text-align: center\;"><span style="font-size:14px\;"><strong><span style="color:#0000ff\;"><span style="font-size:20px\;"><span style="background-color:#ffff99\;">NO PERKOLATOR BREAKFAST TODAY<br />\n~ HAPPY EASTER!! ~&nbsp\; HAPPY PASSOVER!! ~</span></span></span></strong></span></div>\n<br />\n<span style="font-size:14px\;"><strong>Come out to meet &amp\; mingle with a dynamic group of individuals and businesses who represent professionalism in their respective fields. Enjoy breakfast\, hear a relevant guest speaker\, give your 30-second elevator pitch\, network and develop meaningful business relationships at our weekly Perkolator Breakfast at the All Seasons Diner in Eatontown!&nbsp\;Hope to see you there!</strong></span><br />\n<br />\n&nbsp\;
LOCATION:All Seasons Diner 176 Wyckoff Road Eatontown NJ 07724
UID:e.1458.6678
SEQUENCE:3
DTSTAMP:20260423T031641Z
URL:https://business.monmouthregionalchamber.com/events/details/no-perk-today-good-friday-04-19-2019-6678
END:VEVENT

END:VCALENDAR
