BEGIN:VCALENDAR
VERSION:2.0
PRODID:-//ChamberMaster//Event Calendar 2.0//EN
METHOD:PUBLISH
X-PUBLISHED-TTL:P3D
REFRESH-INTERVAL:P3D
CALSCALE:GREGORIAN
BEGIN:VEVENT
DTSTART:20191011T120000Z
DTEND:20191011T131500Z
X-MICROSOFT-CDO-ALLDAYEVENT:FALSE
SUMMARY:MRCC Perkolator Breakfast
DESCRIPTION:Come out to meet & mingle with a dynamic group of individuals and businesses who represent professionalism in their respective fields. Enjoy breakfast\, hear a relevant guest speaker\, give your 30-second elevator pitch\, network and develop meaningful business relationships at our weekly Perkolator Breakfast at the All Seasons Diner in Eatontown! Hope to see you there!\n\n\n\nToday\, our speaker will be Al Aloisi of Alfred Aloisi Associates. He will provide us with information on health insurance concepts\, AEP  and Medicare enrollment.
X-ALT-DESC;FMTTYPE=text/html:<span style="font-size:14px\;"><strong>Come out to meet &amp\; mingle with a dynamic group of individuals and businesses who represent professionalism in their respective fields. Enjoy breakfast\, hear a relevant guest speaker\, give your 30-second elevator pitch\, network and develop meaningful business relationships at our weekly Perkolator Breakfast at the All Seasons Diner in Eatontown!&nbsp\;Hope to see you there!</strong></span><br />\n<br />\n<span style="color:#000080\;"><em><span style="font-size:18px\;"><strong>Today\, our speaker will be Al Aloisi of Alfred Aloisi Associates. He will provide us with information on health insurance concepts\, AEP&nbsp\; and Medicare enrollment.<br />\n<span style="font-family:tahoma\;">&nbsp\;</span></strong></span></em></span><br />\n<br />\n<br />\n&nbsp\;
LOCATION:All Seasons Diner 176 Wyckoff Road Eatontown NJ 07724
UID:e.1458.6703
SEQUENCE:3
DTSTAMP:20260424T053715Z
URL:https://business.monmouthregionalchamber.com/events/details/mrcc-perkolator-breakfast-10-11-2019-6703
END:VEVENT

END:VCALENDAR
