BEGIN:VCALENDAR
VERSION:2.0
PRODID:-//ChamberMaster//Event Calendar 2.0//EN
METHOD:PUBLISH
X-PUBLISHED-TTL:P3D
REFRESH-INTERVAL:P3D
CALSCALE:GREGORIAN
BEGIN:VEVENT
DTSTART:20190510T120000Z
DTEND:20190510T131500Z
X-MICROSOFT-CDO-ALLDAYEVENT:FALSE
SUMMARY:MRCC Perkolator Breakfast
DESCRIPTION:Come out to meet & mingle with a dynamic group of individuals and businesses who represent professionalism in their respective fields. Enjoy breakfast\, hear a relevant guest speaker\, give your 30-second elevator pitch\, network and develop meaningful business relationships at our weekly Perkolator Breakfast at the All Seasons Diner in Eatontown! Hope to see you there!\n\nColonel Samuel Fuoco of the Association of the United States Army will be our speaker this week.
X-ALT-DESC;FMTTYPE=text/html:<span style="font-size:14px\;"><strong>Come out to meet &amp\; mingle with a dynamic group of individuals and businesses who represent professionalism in their respective fields. Enjoy breakfast\, hear a relevant guest speaker\, give your 30-second elevator pitch\, network and develop meaningful business relationships at our weekly Perkolator Breakfast at the All Seasons Diner in Eatontown!&nbsp\;Hope to see you there!<br />\n<span style="color:#000080\;"><span style="font-size:18px\;">Colonel Samuel Fuoco of the Association of the United States Army will be our speaker this week.</span></span></strong></span><br />\n<br />\n<br />\n<br />\n<span style="font-family:tahoma\;">&nbsp\;</span><br />\n<br />\n<br />\n&nbsp\;
LOCATION:All Seasons Diner 176 Wyckoff Road Eatontown NJ 07724
UID:e.1458.6681
SEQUENCE:3
DTSTAMP:20260424T141455Z
URL:https://business.monmouthregionalchamber.com/events/details/mrcc-perkolator-breakfast-05-10-2019-6681
END:VEVENT

END:VCALENDAR
