BEGIN:VCALENDAR
VERSION:2.0
PRODID:-//ChamberMaster//Event Calendar 2.0//EN
METHOD:PUBLISH
X-PUBLISHED-TTL:P3D
REFRESH-INTERVAL:P3D
CALSCALE:GREGORIAN
BEGIN:VEVENT
DTSTART:20190426T120000Z
DTEND:20190426T131500Z
X-MICROSOFT-CDO-ALLDAYEVENT:FALSE
SUMMARY:MRCC Perkolator Breakfast
DESCRIPTION:Come out to meet & mingle with a dynamic group of individuals and businesses who represent professionalism in their respective fields. Enjoy breakfast\, hear a relevant guest speaker\, give your 30-second elevator pitch\, network and develop meaningful business relationships at our weekly Perkolator Breakfast at the All Seasons Diner in Eatontown! Hope to see you there!\n\n\n\nJorge Terreros and Anna Lichnowski\, Brookdale Community College Academic Advisors/Student Success Navigators\, will be our speakers this week.\n\n\n\nAlso\, there will be a special presentation of funds raised by our Young Professionals Group's Caring with Karaoke event to Kick Cancer Overboard\, this year's charity recipient.
X-ALT-DESC;FMTTYPE=text/html:<span style="font-size:14px\;"><strong>Come out to meet &amp\; mingle with a dynamic group of individuals and businesses who represent professionalism in their respective fields. Enjoy breakfast\, hear a relevant guest speaker\, give your 30-second elevator pitch\, network and develop meaningful business relationships at our weekly Perkolator Breakfast at the All Seasons Diner in Eatontown!&nbsp\;Hope to see you there!<br />\n<br />\n<span style="color:#000080\;"><span style="font-size:18px\;">Jorge Terreros and Anna Lichnowski\, Brookdale Community College Academic Advisors/Student Success Navigators\, will be our speakers this week.<br />\n<br />\nAlso\, there will be a special presentation of funds raised by our Young Professionals Group&#39\;s Caring with Karaoke event to Kick Cancer Overboard\, this year&#39\;s charity recipient.</span></span></strong></span><br />\n<br />\n<br />\n<br />\n&nbsp\;
LOCATION:All Seasons Diner 176 Wyckoff Road Eatontown NJ 07724
UID:e.1458.6679
SEQUENCE:3
DTSTAMP:20260423T031519Z
URL:https://business.monmouthregionalchamber.com/events/details/mrcc-perkolator-breakfast-04-26-2019-6679
END:VEVENT

END:VCALENDAR
