BEGIN:VCALENDAR
VERSION:2.0
PRODID:-//ChamberMaster//Event Calendar 2.0//EN
METHOD:PUBLISH
X-PUBLISHED-TTL:P3D
REFRESH-INTERVAL:P3D
CALSCALE:GREGORIAN
BEGIN:VEVENT
DTSTART:20200214T130000Z
DTEND:20200214T141500Z
X-MICROSOFT-CDO-ALLDAYEVENT:FALSE
SUMMARY:MRCC Perkolator Breakfast
DESCRIPTION:Come out to meet & mingle with a dynamic group of individuals and businesses who represent professionalism in their respective fields. Enjoy breakfast\, hear a relevant guest speaker\, give your 30-second elevator pitch\, network and develop meaningful business relationships at our weekly Perkolator Breakfast at the All Seasons Diner in Eatontown! Hope to see you there!\n\n\n\nOUR SPEAKER PRESENTATION WILL BE BY GEORGE GREMMINGER OF THE CONNECTION\, INC.\n\n\n\nTOPIC: ARE YOU SECURE WITH YOUR 'CONNECTIONS'? QUESTIONS YOU NEED TO ASK YOURSELF ABOUT PROTECTING YOUR COMPANY'S SENSITIVE DATA\n\n\n\nSUB-TITLE: THE CURRENT STATE OF CYBER SECURITY\; THREAT INTELLIGENCE & PREVENTION.
X-ALT-DESC;FMTTYPE=text/html:<span style="font-size:14px\;"><strong>Come out to meet &amp\; mingle with a dynamic group of individuals and businesses who represent professionalism in their respective fields. Enjoy breakfast\, hear a relevant guest speaker\, give your 30-second elevator pitch\, network and develop meaningful business relationships at our weekly Perkolator Breakfast at the All Seasons Diner in Eatontown!&nbsp\;Hope to see you there!</strong></span><br />\n<br />\n<em><strong><span style="color:#000080\;"><span style="background:white\;"><span style="font-family:helvetica\,sans-serif\;"><span style="font-size:10.5pt\;">OUR SPEAKER PRESENTATION WILL BE BY GEORGE GREMMINGER OF THE CONNECTION\, INC.</span></span></span><br />\n<br />\n<span style="font-family:helvetica\,sans-serif\;"><span style="font-size:10.5pt\;"><span style="background:white\;">TOPIC: ARE YOU SECURE WITH YOUR &lsquo\;CONNECTIONS&rsquo\;? QUESTIONS YOU NEED TO ASK YOURSELF ABOUT PROTECTING YOUR COMPANY&#39\;S SENSITIVE DATA</span><br />\n<br />\n<span style="background:white\;">SUB-TITLE: THE CURRENT STATE OF CYBER SECURITY\; THREAT INTELLIGENCE &amp\; PREVENTION.</span></span></span><br />\n&nbsp\;<br />\n<br />\n<br />\n<br />\n<br />\n<span style="font-family:tahoma\;">&nbsp\;</span></span></strong></em><br />\n&nbsp\;
LOCATION:All Seasons Diner 176 Wyckoff Road Eatontown NJ 07724
UID:e.1458.6721
SEQUENCE:3
DTSTAMP:20260422T150452Z
URL:https://business.monmouthregionalchamber.com/events/details/mrcc-perkolator-breakfast-02-14-2020-6721
END:VEVENT

END:VCALENDAR
