BEGIN:VCALENDAR
VERSION:2.0
PRODID:-//ChamberMaster//Event Calendar 2.0//EN
METHOD:PUBLISH
X-PUBLISHED-TTL:P3D
REFRESH-INTERVAL:P3D
CALSCALE:GREGORIAN
BEGIN:VEVENT
DTSTART:20151112T133000Z
DTEND:20151112T153000Z
X-MICROSOFT-CDO-ALLDAYEVENT:FALSE
SUMMARY:Marketing Dos & Dont's for Protecting Your Business Street Cred on Social Media
DESCRIPTION:Protect your reputation from those who would like to destroy it. Learn how to effectively communicate with customers and employees on popular social media sites like Facebook\, Instagram and Twitter. The workshop will cover how to respond to negative comments and reviews\, how to create a social media policy for employees\, and how to communicate your message in times of crisis.
X-ALT-DESC;FMTTYPE=text/html:Protect your reputation from those who would like to destroy it. Learn how to effectively communicate with customers and employees on popular social media sites like Facebook\, Instagram and Twitter. The workshop will cover how to respond to negative comments and reviews\, how to create a social media policy for employees\, and how to communicate your message in times of crisis.
LOCATION:The Showroom\, 707 Cookman Avenue\, Asbury Park\, NJ 07712
UID:e.1458.2777
SEQUENCE:3
DTSTAMP:20260422T091037Z
URL:https://business.monmouthregionalchamber.com/events/details/marketing-dos-dont-s-for-protecting-your-business-street-cred-on-social-media-11-12-2015-2777
END:VEVENT

END:VCALENDAR
