BEGIN:VCALENDAR
VERSION:2.0
PRODID:-//ChamberMaster//Event Calendar 2.0//EN
METHOD:PUBLISH
X-PUBLISHED-TTL:P3D
REFRESH-INTERVAL:P3D
CALSCALE:GREGORIAN
BEGIN:VEVENT
DTSTART:20130429T170000Z
DTEND:20130429T190000Z
X-MICROSOFT-CDO-ALLDAYEVENT:FALSE
SUMMARY:Grand Opening Celebration
DESCRIPTION:American Legal will be having a Grand Opening in Celebration of the opening of our 2nd location. Please join us and take a quick tour of our shop and see how American Legal can help you with all of your copying needs. Or just join us for some B2B or just Meet & Greet.
X-ALT-DESC;FMTTYPE=text/html:American Legal will be having a Grand Opening in Celebration of the opening of our 2nd location. Please join us and take a quick tour of our shop and see how American Legal can help you with all of your copying needs. Or just join us for some B2B or just Meet &amp\; Greet.
LOCATION:2 Paragon Way\, Suite 100 Freehold NJ 07728 732-845-1900
UID:e.1458.1497
SEQUENCE:3
DTSTAMP:20260422T090228Z
URL:https://business.monmouthregionalchamber.com/events/details/grand-opening-celebration-04-29-2013-1497
END:VEVENT

END:VCALENDAR
