BEGIN:VCALENDAR
VERSION:2.0
PRODID:-//ChamberMaster//Event Calendar 2.0//EN
METHOD:PUBLISH
X-PUBLISHED-TTL:P3D
REFRESH-INTERVAL:P3D
CALSCALE:GREGORIAN
BEGIN:VEVENT
DTSTART:20200220T131500Z
DTEND:20200220T143000Z
X-MICROSOFT-CDO-ALLDAYEVENT:FALSE
SUMMARY:FREE Microsoft Training & Networking
DESCRIPTION:FREE TRAINING at Microsoft in the Freehold Raceway Mall the Third Thursday of each Month.\n\nIncludes continental breakfast\, one-hour session\, and time for networking with other business professionals. A different subject will be covered at each session!\n\n\n\nLIMITED TO FIRST 25 SIGN-UPS !\n\n\n\nThis Session's topic will be MICROSOFT PLANNER.
X-ALT-DESC;FMTTYPE=text/html:<strong><span style="font-size:18px\;"><span style="font-family:arial\;">FREE TRAINING at Microsoft in the Freehold Raceway Mall the Third Thursday of each Month.<br />\nIncludes continental breakfast\, one-hour session\, and time for networking with other business professionals. A different subject will be covered at each session!</span></span></strong><br />\n<br />\n<strong><span style="font-size:18px\;"><span style="font-family:arial\;">LIMITED TO FIRST 25 SIGN-UPS !<br />\n<br />\n<span style="font-size:22px\;"><em><span style="color:#000080\;">This Session&#39\;s topic will be MICROSOFT PLANNER.</span></em></span></span></span></strong><br />\n<br />\n&nbsp\;
LOCATION:Freehold Raceway Mall Microsoft Store (downstairs in the mall)
UID:e.1458.7259
SEQUENCE:3
DTSTAMP:20260422T150220Z
URL:https://business.monmouthregionalchamber.com/events/details/free-microsoft-training-networking-7259
END:VEVENT

END:VCALENDAR
