BEGIN:VCALENDAR
VERSION:2.0
PRODID:-//ChamberMaster//Event Calendar 2.0//EN
METHOD:PUBLISH
X-PUBLISHED-TTL:P3D
REFRESH-INTERVAL:P3D
CALSCALE:GREGORIAN
BEGIN:VEVENT
DTSTART;VALUE=DATE:20151102
DTEND;VALUE=DATE:20151103
TRANSP:TRANSPARENT
X-MICROSOFT-CDO-ALLDAYEVENT:TRUE
SUMMARY:FOODBANK NEEDS TURKEYS - COLLECTIONS BEGIN TODAY!
DESCRIPTION:There is a shortage of Turkeys this year so we need your help!  Please consider donating a frozen turkey to the FoodBank of Monmouth and Ocean Counties.  Donations are taken Monday - Friday at the FoodBank\, 3300 Route 66\, Neptune\, or at any WindMill Restaurant on our behalf.  All turkeys are needed for distribution by November 16th!
X-ALT-DESC;FMTTYPE=text/html:<strong>There is a shortage of Turkeys this year so we need your help! &nbsp\;Please consider donating a frozen turkey to the FoodBank of Monmouth and Ocean Counties. &nbsp\;Donations are taken Monday - Friday at the FoodBank\, 3300 Route 66\, Neptune\, or at any WindMill Restaurant on our behalf. &nbsp\;All turkeys are needed for distribution by November 16th! &nbsp\;</strong>
LOCATION:The FoodBank of Monmouth and Ocean Counties\, 3300 Route 66\, Neptune
UID:e.1458.2778
SEQUENCE:3
DTSTAMP:20260422T090749Z
URL:https://business.monmouthregionalchamber.com/events/details/foodbank-needs-turkeys-collections-begin-today-11-02-2015-2778
END:VEVENT

END:VCALENDAR
