BEGIN:VCALENDAR
VERSION:2.0
PRODID:-//ChamberMaster//Event Calendar 2.0//EN
METHOD:PUBLISH
X-PUBLISHED-TTL:P3D
REFRESH-INTERVAL:P3D
CALSCALE:GREGORIAN
BEGIN:VEVENT
DTSTART:20130308T000000Z
DTEND:20130308T030000Z
X-MICROSOFT-CDO-ALLDAYEVENT:FALSE
SUMMARY:Entrepreneur Extraordinaire Networking Party & Mixer Official Launch Party
DESCRIPTION:Networking Power Party to benefit the Millstone Elks Club. Meet & Greet your neighbors and local business merchants
X-ALT-DESC;FMTTYPE=text/html:Networking Power Party to benefit the Millstone Elks Club. Meet &amp\; Greet your neighbors and local business merchants
LOCATION:Tommy's Millstone Inn 560 Route 537/Millstone Rd
UID:e.1458.1201
SEQUENCE:3
DTSTAMP:20260422T105158Z
URL:https://business.monmouthregionalchamber.com/events/details/entrepreneur-extraordinaire-networking-party-mixer-official-launch-party-03-07-2013-1201
END:VEVENT

END:VCALENDAR
