BEGIN:VCALENDAR
VERSION:2.0
PRODID:-//ChamberMaster//Event Calendar 2.0//EN
METHOD:PUBLISH
X-PUBLISHED-TTL:P3D
REFRESH-INTERVAL:P3D
CALSCALE:GREGORIAN
BEGIN:VEVENT
DTSTART:20190410T213000Z
DTEND:20190410T233000Z
X-MICROSOFT-CDO-ALLDAYEVENT:FALSE
SUMMARY:Business After Hours at Habitat for Humanity ReStore
DESCRIPTION:Networking and light food at Habitat for Humanity ReStore in Freehold
X-ALT-DESC;FMTTYPE=text/html:<strong><span style="font-size:18px\;">Networking and light food at Habitat for Humanity ReStore in Freehold</span></strong>
LOCATION:ReStore 45 South Street Freehold\, NJ
UID:e.1458.7154
SEQUENCE:3
DTSTAMP:20260423T031835Z
URL:https://business.monmouthregionalchamber.com/events/details/business-after-hours-at-habitat-for-humanity-restore-7154
END:VEVENT

END:VCALENDAR
