BEGIN:VCALENDAR
VERSION:2.0
PRODID:-//ChamberMaster//Event Calendar 2.0//EN
METHOD:PUBLISH
X-PUBLISHED-TTL:P3D
REFRESH-INTERVAL:P3D
CALSCALE:GREGORIAN
BEGIN:VEVENT
DTSTART:20210722T210000Z
DTEND:20210723T000000Z
X-MICROSOFT-CDO-ALLDAYEVENT:FALSE
SUMMARY:2021 Beacon of Heroes Awards - SOLD OUT!
DESCRIPTION:Beacon of Heroes\n\n Celebrating the Chamber\, its People and the Community.\n\n\n\nThe Monmouth Regional Chamber of Commerce is proud to recognize the Community Heroes of Monmouth County. With the challenges presented by the COVID-19 pandemic\, this year we wanted to recognize the organizations on the front lines that have been working every day to keep us safe\, tend to our physical and emotional needs\, and support our local businesses. With this in mind and to show our gratitude\, our annual Beacon of Excellence Awards event has been renamed Beacon of Heroes\, and heroes they are each of our honorees!\n\nPlease join us on July 22\, 2021 for a celebration of these heroes at\n\n \n\nBella Vista Country Club\n\n100 School Road East\n\nMarlboro\, NJ 07746\n\nIn-Person Cocktail Reception and Awards at the Outdoor Pavilion\n\n5:00 PM\n\nVirtual Awards Presentation\n\n6:00 PM\n\n \n\nAs we continue to make our way through these challenging times\, we continue to be respectful of protocols and individual comfort by providing both in-person and virtual options to attend.\n\nPlease join us in congratulating our honorees.\n\n\n\nFOLLOW THIS LINK TO SHOW YOUR SUPPORT WITH A\n\nBEACON OF HEROES AWARD SPONSORSHIP OR AD!\n\n\n\n\n\nhttp://bit.ly/MRCC2021Beacon
X-ALT-DESC;FMTTYPE=text/html:<div style="margin-bottom: 8pt\; text-align: center\;"><strong><span style="font-family:baskerville old face\,serif\;"><span style="font-size:24.0pt\;">Beacon of Heroes</span></span></strong><br />\n&nbsp\;<strong><span style="font-family:harlow solid italic\;"><span style="font-size:16.0pt\;">Celebrating the Chamber\, its People and the Community.</span></span></strong><br />\n<br />\n<strong><span style="color:#050505\;"><span style="font-family:segoe ui historic\,sans-serif\;"><span style="font-size:11.5pt\;">The Monmouth Regional Chamber of Commerce is proud to recognize the Community Heroes of Monmouth County. With the challenges presented by the COVID-19 pandemic\, this year we wanted to recognize the organizations on the front lines that have been working every day to keep us safe\, tend to our physical and emotional needs\, and support our local businesses. With this in mind and to show our gratitude\, our annual Beacon of Excellence Awards event has been renamed Beacon of Heroes\, and heroes they are&hellip\;each of our honorees!</span></span></span><br />\n<span style="color:#050505\;"><span style="font-family:segoe ui historic\,sans-serif\;"><span style="font-size:11.5pt\;">Please join us on July 22\, 2021 for a celebration of these heroes at</span></span></span><br />\n&nbsp\;<br />\n<span style="color:#050505\;"><span style="font-family:segoe ui historic\,sans-serif\;"><span style="font-size:11.5pt\;">Bella Vista Country Club</span></span></span><br />\n<span style="color:#050505\;"><span style="font-family:segoe ui historic\,sans-serif\;"><span style="font-size:11.5pt\;">100 School Road East</span></span></span><br />\n<span style="color:#050505\;"><span style="font-family:segoe ui historic\,sans-serif\;"><span style="font-size:11.5pt\;">Marlboro\, NJ 07746</span></span></span><br />\n<span style="color:#050505\;"><span style="font-family:segoe ui historic\,sans-serif\;"><span style="font-size:11.5pt\;">In-Person Cocktail Reception and Awards at the Outdoor Pavilion</span></span></span><br />\n<span style="color:#050505\;"><span style="font-family:segoe ui historic\,sans-serif\;"><span style="font-size:11.5pt\;">5:00 PM</span></span></span><br />\n<span style="color:#050505\;"><span style="font-family:segoe ui historic\,sans-serif\;"><span style="font-size:11.5pt\;">Virtual Awards Presentation</span></span></span><br />\n<span style="color:#050505\;"><span style="font-family:segoe ui historic\,sans-serif\;"><span style="font-size:11.5pt\;">6:00 PM</span></span></span><br />\n&nbsp\;<br />\n<span style="color:#050505\;"><span style="font-family:segoe ui historic\,sans-serif\;"><span style="font-size:11.5pt\;">As we continue to make our way through these challenging times\, we continue to be respectful of protocols and individual comfort by providing both in-person and virtual options to attend.</span></span></span><br />\n<span style="color:#050505\;"><span style="font-family:segoe ui historic\,sans-serif\;"><span style="font-size:11.5pt\;">Please join us in congratulating our honorees.</span></span></span><br />\n<br />\n<span style="font-size:20px\;"><a href="https://chambermaster.blob.core.windows.net/userfiles/UserFiles/chambers/1458/File/2021BeaconofHeroesSponsorshipsTicketsAdJournal07.01.pdf"><span style="color:#0000FF\;"><span style="font-family:segoe ui historic\,sans-serif\;">FOLLOW THIS LINK TO SHOW YOUR SUPPORT WITH A<br />\nBEACON OF HEROES AWARD </span></span><span style="color:#FF0000\;"><span style="font-family:segoe ui historic\,sans-serif\;">SPONSORSHIP OR AD!</span></span></a></span><br />\n<br />\n<br />\n<span style="font-size:20px\;"><span style="color:#050505\;"><span style="font-family:segoe ui historic\,sans-serif\;"><a href="https://l.facebook.com/l.php?u=https%3A%2F%2Fbit.ly%2FMRCC2021Beacon%3Ffbclid%3DIwAR1Ov_9_L4b19COIa-tzt7RDs8OxTOT6O7Me2hnMeaoxRd43YxpQrGFZPJo&amp\;h=AT330ebaMV3GTWI6OtmzF_Aho4gCz5Sv5gZvfGzY2aXKznx-0LsFLUGjg6szlU-s_rbHS131sb5vDwQFMjhZtFuQ-ydn9C3yKr6e4pbPo8rtRf1s_Ax5bILVvl7Z2dBgQQ&amp\;__tn__=q&amp\;c%5b0%5d=AT2fmGMhsCy-JamtwaSR8v7M_05uY_rguXQahevYQX6ZkQNSxlJLsNIqCP8IYeGT96HHkwTqQptMogTW1bEp_sb6z6RwIBgF4xOboC1L93SGLpZPjzVi2qCx_XR0NUV8aNkFAhtK55bOamhZ_SdHLyt_" role="link" style="text-decoration-line:none\;outline:none\;border-style:initial\;border-color:initial\;text-align:inherit\;box-sizing:border-box\;" target="_blank"><span style="border:none windowtext 1.0pt\;padding:0in\;"><span style="font-family:inherit\;">http://bit.ly/MRCC2021Beacon</span></span></a></span></span></span></strong><br />\n&nbsp\;</div>\n
LOCATION:
UID:e.1458.7370
SEQUENCE:3
DTSTAMP:20260422T185522Z
URL:https://business.monmouthregionalchamber.com/events/details/2021-beacon-of-heroes-awards-sold-out-7370
END:VEVENT

END:VCALENDAR
