BEGIN:VCALENDAR
VERSION:2.0
PRODID:-//ChamberMaster//Event Calendar 2.0//EN
METHOD:PUBLISH
X-PUBLISHED-TTL:P3D
REFRESH-INTERVAL:P3D
CALSCALE:GREGORIAN
BEGIN:VEVENT
DTSTART:20190418T153000Z
DTEND:20190418T180000Z
X-MICROSOFT-CDO-ALLDAYEVENT:FALSE
SUMMARY:2019 0418 Women in Business Luncheon
DESCRIPTION:Registration is Closed: Walk-Ins Accepted\n\nFee: $50\n\n\n\nChristine Giordano Hanlon\, Esq.\,\n\nMonmouth County Clerk\,\n\nwill be our Luncheon Speaker\n\nThe Luncheon topic will be:\n\n"Providing Value and Guidance\n\nfor Businesses and  Homeowners"\n\n\n\nChristine will focus on:\n\n. The County Clerk's Guidebook for New Business Owners\n\n. Property Fraud Alert Service\n\n. Registering a Trade Name and the Open Public Records Search (OPRS) Website\n\n. Overview of Business Liens\n\n\n\nThe event is open to women and men
X-ALT-DESC;FMTTYPE=text/html:<div style="text-align: center\;"><em><strong><span style="font-size:16px\;"><span style="color:#B22222\;">Registration is Closed: Walk-Ins Accepted<br />\nFee: $50</span><br />\n<br />\nChristine Giordano Hanlon\, Esq.\,<br />\nMonmouth County Clerk\,<br />\nwill be our Luncheon Speaker<br />\nThe Luncheon topic will be:<br />\n&quot\;Providing Value and Guidance<br />\nfor Businesses and&nbsp\; Homeowners&quot\;<br />\n<br />\nChristine will focus on:<br />\n. The County Clerk&#39\;s Guidebook for New Business Owners<br />\n. Property Fraud Alert Service<br />\n. Registering a Trade Name and the Open Public Records Search (OPRS) Website<br />\n. Overview of Business Liens<br />\n<br />\nThe event is open to women and men</span></strong></em><br />\n&nbsp\;</div>\n
LOCATION:iPlay America 110 Schanck Road Freehold\, NJ 07728
UID:e.1458.7177
SEQUENCE:3
DTSTAMP:20260423T031917Z
URL:https://business.monmouthregionalchamber.com/events/details/2019-0418-women-in-business-luncheon-7177
END:VEVENT

END:VCALENDAR
