BEGIN:VCALENDAR
VERSION:2.0
PRODID:-//ChamberMaster//Event Calendar 2.0//EN
METHOD:PUBLISH
X-PUBLISHED-TTL:P3D
REFRESH-INTERVAL:P3D
CALSCALE:GREGORIAN
BEGIN:VEVENT
DTSTART;VALUE=DATE:20190526
DTEND;VALUE=DATE:20190527
TRANSP:TRANSPARENT
X-MICROSOFT-CDO-ALLDAYEVENT:TRUE
SUMMARY:Strike Up the Band
DESCRIPTION:The Axelrod continues its tradition of celebrating Memorial Day weekend with a swinging big band and award-winning lead vocalist Gabrielle Stravelli\, this year singing the immortal songs of George and Ira Gershwin. The New York Times compared Ms. Stravelli to "Ella Fitzgerald in her prime\," and she has performed in many of New York's most prestigious venues as well as concert halls around the world. The Gershwins' contribution to the Great American Songbook includes dozens of hit songs that continue to be recorded and performed today\, including "Someone to Watch Over Me\," "'S Wonderful\," "Summertime\," and "I Got Rhythm."
X-ALT-DESC;FMTTYPE=text/html:<span style="color:rgb(65\, 65\, 65)\; font-family:avenir-lt-w01_35-light1475496\,sans-serif\; font-size:16px">The Axelrod continues its tradition of celebrating Memorial Day weekend with a swinging big band and award-winning lead vocalist Gabrielle Stravelli\, this year singing the immortal songs of George and Ira Gershwin. The New York Times compared Ms. Stravelli to &ldquo\;Ella Fitzgerald in her prime\,&rdquo\; and she has performed in many of New York&rsquo\;s most prestigious venues as well as concert halls around the world. The Gershwins&rsquo\; contribution to the Great American Songbook includes dozens of hit songs that continue to be recorded and performed today\, including &ldquo\;Someone to Watch Over Me\,&rdquo\; &ldquo\;&rsquo\;S Wonderful\,&rdquo\; &ldquo\;Summertime\,&rdquo\; and &ldquo\;I Got Rhythm.&rdquo\;</span>
LOCATION:Axelrod Performing Arts Center 100 Grant Avenue Deal Park\, NJ 07723
UID:e.1458.7185
SEQUENCE:3
DTSTAMP:20260426T004214Z
URL:http://business.monmouthregionalchamber.com/events/details/strike-up-the-band-7185
END:VEVENT

END:VCALENDAR
