BEGIN:VCALENDAR
VERSION:2.0
PRODID:-//ChamberMaster//Event Calendar 2.0//EN
METHOD:PUBLISH
X-PUBLISHED-TTL:P3D
REFRESH-INTERVAL:P3D
CALSCALE:GREGORIAN
BEGIN:VEVENT
DTSTART:20240218T130000Z
DTEND:20240218T150000Z
X-MICROSOFT-CDO-ALLDAYEVENT:FALSE
SUMMARY:Pancake Fundraiser for AUSA Service Dog Initiative
DESCRIPTION:Join Association of the United States Army Monmouth Chapter for our annual fundraising effort for our Service Dog Initiative: Pairing and Caring for our Veterans. Our 2024 CHAPTER goal is $15\,000 for one service dog\, training and Veteran integration.\n\nTickets are $12\n\nThis event is taking place Sunday\, February 18th from 8-10AM at:\n\nAPPLEBEE'S\n\n14 Park Road\n\nTinton Falls\, NJ 07724\n\n\n\nChance Auction!!! All supporting Our Service Dog Initiative!!!\n\n\n\nRegister online : www.ausa.org/monmouth\n\n\n\nVolunteers NEEDED FOR SERVING AND SALES!!!\n\n\n\nQuestions? Contact Kit Roache\n\n732 788 4005 or kitroche@verizon.net
X-ALT-DESC;FMTTYPE=text/html:Join Association of the United States Army Monmouth Chapter for our annual fundraising effort for our Service Dog Initiative: Pairing and Caring for our Veterans. Our 2024 CHAPTER goal is $15\,000 for one service dog\, training and Veteran integration.<br />\nTickets are $12<br />\nThis event is taking place Sunday\, February 18th from 8-10AM at:<br />\nAPPLEBEE&#39\;S<br />\n14 Park Road<br />\nTinton Falls\, NJ 07724<br />\n<br />\nChance Auction!!! All supporting Our Service Dog Initiative!!!<br />\n<br />\nRegister online : www.ausa.org/monmouth<br />\n<br />\nVolunteers NEEDED FOR SERVING AND SALES!!!<br />\n<br />\nQuestions? Contact Kit Roache<br />\n732 788 4005 or kitroche@verizon.net&nbsp\;
LOCATION:APPLEBEE'S 14 Park Road Tinton Falls\, NJ 07724
UID:e.1458.9335
SEQUENCE:3
DTSTAMP:20260422T091042Z
URL:http://business.monmouthregionalchamber.com/events/details/pancake-fundraiser-for-ausa-service-dog-initiative-9335
END:VEVENT

END:VCALENDAR
