BEGIN:VCALENDAR
VERSION:2.0
PRODID:-//ChamberMaster//Event Calendar 2.0//EN
METHOD:PUBLISH
X-PUBLISHED-TTL:P3D
REFRESH-INTERVAL:P3D
CALSCALE:GREGORIAN
BEGIN:VEVENT
DTSTART:20220826T220000Z
DTEND:20220827T010000Z
X-MICROSOFT-CDO-ALLDAYEVENT:FALSE
SUMMARY:Night at the BallPark with AUSA Monmouth Chapter
DESCRIPTION:Due to a raindate AUSA is pleased to announce the new date of a Night at the Lakewood BlueClaws First Energy Park Benefiting Fisher House Foundation\, Inc.\n\nBaseball and Picnic Outing 3rd Base Picnic Area Lakewood BlueClaws vs. Brooklyn Cyclones\n\nAffiliate of the NY Mets\n\nCheck-in 6:00PM for 7:05PM Game\n\nTICKET COST INCLUDES Corporate menu AND T-SHIRT\n\nAdult $30\n\nChildren 5-12 $20\n\nChildren under 4 free\n\nPickup Tickets & T-Shirts at Chapter Table by Will Call Window\n\nSponsorships available:\n\nT-Shirt $3\,000\n\nPlatinum $2\,000\n\nGold $1\,000\n\nSilver $500\n\nBronze $250\n\nQUESTIONS:\n\nKit Roache:\n\nkitroache@verizon.net\n\nPhone: 732-788-4005\n\nMail checks/registration form to: Kit Roache AUSA Monmouth Chapter P.O. Box 497 Eatontown\, NJ 07724\n\nor\n\nhttps://www.ausa.org/events/monmouth-chapter-night-ballpark     \n\nTickets purchased for June 2\,nd rained out date will be honored.
X-ALT-DESC;FMTTYPE=text/html:<div>Due to a raindate AUSA is pleased to announce the new date of a Night at the Lakewood BlueClaws First Energy Park Benefiting Fisher House Foundation\, Inc.<br />\nBaseball and Picnic Outing 3rd Base Picnic Area Lakewood BlueClaws vs. Brooklyn Cyclones<br />\nAffiliate of the NY Mets<br />\nCheck-in 6:00PM for 7:05PM Game</div>\n\n<div>TICKET COST INCLUDES Corporate menu AND T-SHIRT<br />\nAdult $30<br />\nChildren 5-12 $20<br />\nChildren under 4 free<br />\nPickup Tickets &amp\; T-Shirts at Chapter Table by Will Call Window<br />\nSponsorships available:<br />\nT-Shirt $3\,000<br />\nPlatinum $2\,000<br />\nGold $1\,000<br />\nSilver $500<br />\nBronze $250<br />\nQUESTIONS:<br />\nKit Roache:<br />\nkitroache@verizon.net<br />\nPhone: 732-788-4005<br />\nMail checks/registration form to: Kit Roache AUSA Monmouth Chapter P.O. Box 497 Eatontown\, NJ 07724<br />\nor<br />\n<a class="oajrlxb2 g5ia77u1 qu0x051f esr5mh6w e9989ue4 r7d6kgcz rq0escxv nhd2j8a9 nc684nl6 p7hjln8o kvgmc6g5 cxmmr5t8 oygrvhab hcukyx3x jb3vyjys rz4wbd8a qt6c0cv9 a8nywdso i1ao9s8h esuyzwwr f1sip0of lzcic4wl gpro0wi8 py34i1dx" href="https://l.facebook.com/l.php?u=https%3A%2F%2Fwww.ausa.org%2Fevents%2Fmonmouth-chapter-night-ballpark%3Ffbclid%3DIwAR0IxS__gAV4ujZST9QHzZoB6cLKgt5VSAwKEzC1-JU19kGI1DlJR0WNbsc&amp\;h=AT1QHBg6v0y47TpOFguc6XKqiYd1sb2W-_zPZbGfyFkBFkftDt7PD5S3Xw0RUtU_BOtiWsML9Rw4JKKvULkopymwAJ4ZtXrGxgU_fVeRAkIYvXQTd7wuSIFu6GmTRQbbpA&amp\;__tn__=q&amp\;c[0]=AT3WmaANkpJeEQ-GF_aWoD6oRWEEn47WFuigBKF25KkwPBjwEUDxC69FcjUuI-vCbsLdndV8aRpLWBbY5k3v44BO40ZScim0l3qpE3YaUnJ-1bzzXuein_mYlZTNqvR-pAOcivkie4RIpNJ5iFZ3ztQgCDvorHDVnTBB-1yyZLU8VPVjRQ" rel="nofollow" style="cursor: pointer\; outline: none\; list-style: none\; border-width: 0px\; border-style: initial\; border-color: initial\; padding: 0px\; margin: 0px\; touch-action: manipulation\; background-color: transparent\; text-align: inherit\; display: inline\; -webkit-tap-highlight-color: transparent\; box-sizing: border-box\; font-family: inherit\;" tabindex="0" target="_blank">https://www.ausa.org/events/monmouth-chapter-night-ballpark&nbsp\; &nbsp\; &nbsp\;<br />\nTickets purchased for June 2\,nd rained out date will be honored.</a><br />\n&nbsp\;</div>\n
LOCATION:Jersey Shore Blue Claws Lakewood\, NJ
UID:e.1458.8787
SEQUENCE:3
DTSTAMP:20260423T154415Z
URL:http://business.monmouthregionalchamber.com/events/details/night-at-the-ballpark-with-ausa-monmouth-chapter-8787
END:VEVENT

END:VCALENDAR
