BEGIN:VCALENDAR
VERSION:2.0
PRODID:-//ChamberMaster//Event Calendar 2.0//EN
METHOD:PUBLISH
X-PUBLISHED-TTL:P3D
REFRESH-INTERVAL:P3D
CALSCALE:GREGORIAN
BEGIN:VEVENT
DTSTART:20180406T120000Z
DTEND:20180406T131500Z
X-MICROSOFT-CDO-ALLDAYEVENT:FALSE
SUMMARY:MRCC Perkolator Breakfast
DESCRIPTION:Come out to meet & mingle with a dynamic group of individuals and businesses who represent professionalism in their respective fields. Enjoy breakfast\, hear a relevant guest speaker\, give your 30-second elevator pitch\, network and develop meaningful business relationships at our weekly Perkolator Breakfast at the All Seasons Diner in Eatontown! Hope to see you there!\n\n\n\nThis week\, Derrick Guneratne\, Corporate Training Consultant with Dale Carnegie\, will speak about the importance of engagement in the workplace.
X-ALT-DESC;FMTTYPE=text/html:Come out to meet &amp\; mingle with a dynamic group of individuals and businesses who represent professionalism in their respective fields. Enjoy breakfast\, hear a relevant guest speaker\, give your 30-second elevator pitch\, network and develop meaningful business relationships at our weekly Perkolator Breakfast at the All Seasons Diner in Eatontown!&nbsp\;Hope to see you there!<br />\n<br />\n<em><strong>This week\, Derrick Guneratne\, Corporate Training Consultant with Dale Carnegie\, will speak about the importance of engagement in the workplace.</strong></em><br />\n<br />\n&nbsp\;<br />\n<br />\n<br />\n&nbsp\;
LOCATION:All Seasons Diner 176 Wyckoff Road Eatontown NJ 07724
UID:e.1458.6354
SEQUENCE:3
DTSTAMP:20260426T004114Z
URL:http://business.monmouthregionalchamber.com/events/details/mrcc-perkolator-breakfast-04-06-2018-6354
END:VEVENT

END:VCALENDAR
