BEGIN:VCALENDAR
VERSION:2.0
PRODID:-//ChamberMaster//Event Calendar 2.0//EN
METHOD:PUBLISH
X-PUBLISHED-TTL:P3D
REFRESH-INTERVAL:P3D
CALSCALE:GREGORIAN
BEGIN:VEVENT
DTSTART:20220605T000000Z
DTEND:20220605T030000Z
X-MICROSOFT-CDO-ALLDAYEVENT:FALSE
SUMMARY:Comedy Night Fundraiser for Tommy's Cats
DESCRIPTION:Tommy Gooch headlines Applejacks Comedy!\n\n\n\nWe will be raising money for Tommy's Cats NJ. Please visit tommyscatsnj.org to donate or purchase something from their amazon wishlist.\n\n\n\nJoin Danielle Woolley and the volunteers of Tommy's Cats to support local comedy that also supports local business and the community\, hosted by John Kurschner and Applejack Comedy.\n\n \nTommy Gooch has headlined the Borgata Comedy Club at the Borgata Hotel & Casino in Atlantic City\, NJ. He's been a guest on SiriusXM Satellite Radio & Time Warner Spectrum TV. Tommy is a regular at the world famous Broadway Comedy Club in New York City. Tommy Gooch was born in Brooklyn\, was raised and still resides in Staten Island\, NY.\n\nHis ranting self-deprecating\, family-oriented style of comedy has traveled & made him a crowd favorite for years.\n\nTommy's natural loveable off the cuff comedy is a popular choice to headline any show.\n\n\nJohn Kurschner\, who has close\, family ties to Keansburg NJ has been hosting Applejacks Comedy for over 9 years. Join us on June 4TH where we welcome Tommy Gooch for the 1st time!! On June 4th\, we will be raising money for Tommy's Cats\, a local Trap Neuter Return (TNR) 501c3 cat rescue that is focused in the areas their volunteers live in the Holmdel\, Keansburg\, Middletown bayshore area.\n\n\n\nFeaturing New Jersey's own Scott Holt. One time he ended up on the news because he paddle boarded across the Hudson to get to work. \n\n\n\nRoro Antonuccio will give you all an excellent 1st hand insight what it's like to be raised Italian American. Bring your wooden spoons and she'll bring you cannolis.\n\n\n\n \n\n\nAlex Grubard produces the show that has been taking the nation by storm! You can catch "Weeding Out The Stoned" from New Jersey to California. Also catch Alex weekly in Jersey City at "Corgi Comedy"\n\nFormer "Comedy Fight Club" champion\; nobody in the crowd is safe from Jerry Martinez. His pin point accuracy while roasting will keep you on your toes the entire show!
X-ALT-DESC;FMTTYPE=text/html:<span style="font-size:14px"><span style="font-family:arial\,helvetica\,sans-serif">Tommy Gooch headlines Applejacks Comedy!<br />\n<br />\nWe will be raising money for Tommy&#39\;s Cats NJ. Please visit tommyscatsnj.org to donate or purchase something from their amazon wishlist.<br />\n<br />\nJoin Danielle Woolley and the volunteers of Tommy&#39\;s Cats to support local comedy that also supports local business and the community\, hosted by John Kurschner and Applejack Comedy.</span></span><br />\n&nbsp\;\n<p><span style="font-size:14px"><span style="font-family:arial\,helvetica\,sans-serif">Tommy Gooch has headlined the Borgata Comedy Club at the Borgata Hotel &amp\; Casino in Atlantic City\, NJ. He&#39\;s been a guest on SiriusXM Satellite Radio &amp\; Time Warner Spectrum TV. Tommy is a regular at the world famous Broadway Comedy Club in New York City. Tommy Gooch was born in Brooklyn\, was raised and still resides in Staten Island\, NY.</span></span></p>\n\n<p><span style="font-size:14px"><span style="font-family:arial\,helvetica\,sans-serif">His ranting self-deprecating\, family-oriented style of comedy has traveled &amp\; made him a crowd favorite for years.</span></span></p>\n\n<p><span style="font-size:14px"><span style="font-family:arial\,helvetica\,sans-serif">Tommy&#39\;s natural loveable off the cuff comedy is a popular choice to headline any show.</span></span></p>\n\n<div>\n<p><span style="font-size:14px"><span style="font-family:arial\,helvetica\,sans-serif">John Kurschner\, who has close\, family ties to Keansburg NJ has been hosting Applejacks Comedy for over 9 years. Join us on June 4TH where we welcome Tommy Gooch for the 1st time!! On June 4th\, we will be raising money for Tommy&#39\;s Cats\, a local Trap Neuter Return (TNR) 501c3 cat rescue that is focused in the areas their volunteers live in the Holmdel\, Keansburg\, Middletown bayshore area.<br />\n<br />\n<span style="color:rgb(111\, 114\, 135)">Featuring New Jersey&rsquo\;s own Scott Holt. One time he ended up on the news because he paddle boarded across the Hudson to get to work.&nbsp\;<br />\n<br />\nRoro Antonuccio will give you all an excellent 1st hand insight what it&rsquo\;s like to be raised Italian American. Bring your wooden spoons and she&rsquo\;ll bring you cannolis.</span></span></span><br />\n<br />\n&nbsp\;</p>\n\n<div>\n<p><span style="font-size:14px"><span style="font-family:arial\,helvetica\,sans-serif">Alex Grubard produces the show that has been taking the nation by storm! You can catch &ldquo\;Weeding Out The Stoned&rdquo\; from New Jersey to California. Also catch Alex weekly in Jersey City at &ldquo\;Corgi Comedy&rdquo\;</span></span></p>\n\n<div><span style="font-size:14px"><span style="font-family:arial\,helvetica\,sans-serif"><span style="color:rgb(111\, 114\, 135)">Former &ldquo\;Comedy Fight Club&rdquo\; champion\; nobody in the crowd is safe from Jerry Martinez. His pin point accuracy while roasting will keep you on your toes the entire show!</span></span></span></div>\n</div>\n\n<p>&nbsp\;</p>\n</div>\n<br />\n<br />\n&nbsp\;
LOCATION:Applejack 2 Sports Bar & Grill 60 Carr Ave Keansburg NJ 07734
UID:e.1458.8782
SEQUENCE:3
DTSTAMP:20260423T190720Z
URL:http://business.monmouthregionalchamber.com/events/details/comedy-night-fundraiser-for-tommy-s-cats-8782
END:VEVENT

END:VCALENDAR
