BEGIN:VCALENDAR
VERSION:2.0
PRODID:-//ChamberMaster//Event Calendar 2.0//EN
METHOD:PUBLISH
X-PUBLISHED-TTL:P3D
REFRESH-INTERVAL:P3D
CALSCALE:GREGORIAN
BEGIN:VEVENT
DTSTART:20220609T213000Z
DTEND:20220610T003000Z
X-MICROSOFT-CDO-ALLDAYEVENT:FALSE
SUMMARY:6/9 Causes and Connections
DESCRIPTION:Join Danielle Woolley\, Rita's of Union Beach\, and Penelope Traveling Boutique for a fundraising night at Rita's of Union BeachNJ.\n\n\n\nJune 9th from 5:30pm to 8:30pm\n\n\n\nA portion of sales from both Rita's and Penelope will be donated to Tommy's Cats tommyscatsnj.org\n\n\n\nCome to connect\, support two amazing local businesses and raise money for saving kitties!\n\n\n\nWanna do even more? Check out the wishlist of supplies and other ways to donate at http://linktr.ee/tommyscatsnj\n\n\n\nFollow us on instagram:\n\n@daniellewoolley_\n\n@tommyscatsnj\n\n@ritasofunionbeach\n\n@penelopenj
X-ALT-DESC;FMTTYPE=text/html:Join Danielle Woolley\, Rita&#39\;s of Union Beach\, and Penelope Traveling Boutique for a fundraising night at Rita&#39\;s of Union BeachNJ.<br />\n<br />\n<strong>June 9th from 5:30pm to 8:30pm</strong><br />\n<br />\nA portion of sales from both Rita&#39\;s and Penelope will be donated to Tommy&#39\;s Cats tommyscatsnj.org<br />\n<br />\nCome to connect\, support two amazing local businesses and raise money for saving kitties!<br />\n<br />\nWanna do even more? Check out the wishlist of supplies and other ways to donate at http://linktr.ee/tommyscatsnj<br />\n<br />\nFollow us on instagram:<br />\n@daniellewoolley_<br />\n@tommyscatsnj<br />\n@ritasofunionbeach<br />\n@penelopenj<br />\n&nbsp\;
LOCATION:Rita's of Union Beach 865 Highway 36 Union Beach NJ 07735
UID:e.1458.8783
SEQUENCE:3
DTSTAMP:20260423T190618Z
URL:http://business.monmouthregionalchamber.com/events/details/6-9-causes-and-connections-8783
END:VEVENT

END:VCALENDAR
