BEGIN:VCALENDAR
VERSION:2.0
PRODID:-//ChamberMaster//Event Calendar 2.0//EN
METHOD:PUBLISH
X-PUBLISHED-TTL:P3D
REFRESH-INTERVAL:P3D
CALSCALE:GREGORIAN
BEGIN:VEVENT
DTSTART:20211214T233000Z
DTEND:20211215T003000Z
X-MICROSOFT-CDO-ALLDAYEVENT:FALSE
SUMMARY:2021 Discussion Series - Merry & Bright Holiday Celebration
DESCRIPTION:Kathy Lo Bue\, Managing Director   Glen Eagle Advisors and host/sponsor of The Discussion Series (free\, educational\, community programming) invites you to join her on Zoom to welcome the holiday season and celebrate 6 years of The Discussion Series presentations.\n\nThe program includes inspirational messages\, prizes\, fun and a Thank You toast to you - our loyal supporters!  (BYOB   bubbly!)\n\n \n\nWe look forward to 2022 with gratitude and anticipation of good things to come - good health\, peace and joy!\n\n \n\nAs Kathy always says\, "Sharing is Priceless" so please call 732-866-6660 for your Zoom meeting link. Let us know if you would also like us to send an invitation to a family member\, friend or colleague so you can share these happy moments together.\n\n\n\n\n\nKathy Lo Bue\, Managing Director   Glen Eagle Advisors\, LLC\n\n   35+ Years in the financial services industry\n\n   Glen Eagle Advisors\, LLC is a SEC Registered Investment Advisor\n\n   St. Robert Bellarmine Co-Cathedral   served as Trustee\, Finance Council Chair & Faith in our Future Chair            Interfaith Caregivers of Greater Mercer County   Past Chair of the Board\n\n   Monmouth Regional Chamber of Commerce (formerly Greater Monmouth Chamber of Commerce  \n\n    Past Vice Chair and Past Chair - Women in Business\n\n   Glen Eagle Advisors awarded 2016 Circle of Excellence Award for Small Business\n\n   Glen Eagle Advisors recipient of the Interfaith Caregivers of Greater Mercer County 2018 Shining Lights Award\n\n\n\n   Glen Eagle Home Office: (609) 631-8231
X-ALT-DESC;FMTTYPE=text/html:<span style="color:#008000"><span style="font-size:22px"><strong><span style="font-family:arial\,sans-serif">Kathy Lo Bue\, Managing Director &ndash\; Glen Eagle Advisors and host/sponsor of The Discussion Series (free\, educational\, community programming) invites you to join her on Zoom to welcome the&nbsp\;holiday</span>&nbsp\;season and celebrate 6 years of The Discussion Series presentations.</strong><br />\n<strong><span style="font-family:arial\,sans-serif">The program includes inspirational messages\, prizes\, fun and a Thank You toast to you - our&nbsp\;lo</span>yal supporters! &nbsp\;(BYOB &ndash\; bubbly!)</strong><br />\n&nbsp\;<br />\n<strong><span style="font-family:arial\,sans-serif">We&nbsp\;lo</span>ok forward to 2022 with gratitude and anticipation of good things to come - good health\, peace and joy!</strong><br />\n&nbsp\;<br />\n<strong><span style="font-family:arial\,sans-serif">As&nbsp\;Kathy</span>&nbsp\;always says\, &quot\;Sharing is Priceless&quot\; so please call 732-866-6660 for your Zoom meeting link. Let us know if you would also like us to send an invitation to a family member\, friend or colleague so you can share these happy moments together.</strong></span></span><br />\n<br />\n<br />\n<strong><u><span style="font-size:14.0pt">Kathy Lo Bue\, Managing Director &mdash\; Glen Eagle Advisors\, LLC</span></u></strong><br />\n&bull\;&nbsp\; 35+ Years in the financial services industry<br />\n&bull\;&nbsp\; Glen Eagle Advisors\, LLC is a SEC Registered Investment Advisor<br />\n&bull\;&nbsp\; St. Robert Bellarmine Co-Cathedral &ndash\; served as Trustee\, Finance Council Chair &amp\; Faith in our Future Chair&nbsp\;&nbsp\;&nbsp\;&nbsp\;&nbsp\;&nbsp\; &nbsp\; <span style="background-color:rgb(255\, 255\, 255)\; color:rgb(51\, 51\, 51)\; font-family:sans-serif\,arial\,verdana\,trebuchet ms\; font-size:13px">&bull\;</span>&nbsp\; Interfaith Caregivers of Greater Mercer County &ndash\; Past Chair of the Board<br />\n&bull\;&nbsp\; Monmouth Regional Chamber of Commerce (<em>formerl</em>y Greater Monmouth Chamber of Commerce &ndash\;<br />\n&nbsp\;&nbsp\;&nbsp\; Past Vice Chair and Past Chair - Women in Business<br />\n&bull\;&nbsp\; Glen Eagle Advisors awarded 2016 Circle of Excellence Award for Small Business<br />\n&bull\;&nbsp\; Glen Eagle Advisors recipient of the Interfaith Caregivers of Greater Mercer County 2018 Shining Lights Award<br />\n<br />\n&bull\;&nbsp\; Glen Eagle Home Office: (609) 631-8231<br />\n&nbsp\;
LOCATION:Zoom Meeting
UID:e.1458.8666
SEQUENCE:3
DTSTAMP:20260424T052503Z
URL:http://business.monmouthregionalchamber.com/events/details/2021-discussion-series-merry-bright-holiday-celebration-8666
END:VEVENT

END:VCALENDAR
